BEGIN:VCALENDAR
VERSION:2.0
PRODID:-//Connecticut Veterinary Medical Foundation - ECPv6.15.20//NONSGML v1.0//EN
CALSCALE:GREGORIAN
METHOD:PUBLISH
X-WR-CALNAME:Connecticut Veterinary Medical Foundation
X-ORIGINAL-URL:https://petsafetyct.org
X-WR-CALDESC:Events for Connecticut Veterinary Medical Foundation
REFRESH-INTERVAL;VALUE=DURATION:PT1H
X-Robots-Tag:noindex
X-PUBLISHED-TTL:PT1H
BEGIN:VTIMEZONE
TZID:America/New_York
BEGIN:DAYLIGHT
TZOFFSETFROM:-0500
TZOFFSETTO:-0400
TZNAME:EDT
DTSTART:20210314T070000
END:DAYLIGHT
BEGIN:STANDARD
TZOFFSETFROM:-0400
TZOFFSETTO:-0500
TZNAME:EST
DTSTART:20211107T060000
END:STANDARD
BEGIN:DAYLIGHT
TZOFFSETFROM:-0500
TZOFFSETTO:-0400
TZNAME:EDT
DTSTART:20220313T070000
END:DAYLIGHT
BEGIN:STANDARD
TZOFFSETFROM:-0400
TZOFFSETTO:-0500
TZNAME:EST
DTSTART:20221106T060000
END:STANDARD
BEGIN:DAYLIGHT
TZOFFSETFROM:-0500
TZOFFSETTO:-0400
TZNAME:EDT
DTSTART:20230312T070000
END:DAYLIGHT
BEGIN:STANDARD
TZOFFSETFROM:-0400
TZOFFSETTO:-0500
TZNAME:EST
DTSTART:20231105T060000
END:STANDARD
END:VTIMEZONE
BEGIN:VEVENT
DTSTART;TZID=America/New_York:20221208T190000
DTEND;TZID=America/New_York:20221208T193000
DTSTAMP:20260425T221714
CREATED:20221109T171932Z
LAST-MODIFIED:20221110T134639Z
UID:10000010-1670526000-1670527800@petsafetyct.org
SUMMARY:Understanding Pet Emergencies and What to Expect at the ER
DESCRIPTION:Tickets\n\n		\n	\n	\n		The numbers below include tickets for this event already in your cart. Clicking "Get Tickets" will allow you to edit any existing attendee information as well as change ticket quantities.	\n\n\n		\n\n	\n		\n				CVMF 2026 Fundriaser	\n\n\n\n\n	Each ticket includes bowling\, shoe rental\, mini-golf\, pizza and soft drinks. Ticket also includes 1 adult beverage ( beer or wine\, for 21+)\n*$30/ticket when purchase 3 or more"\n\n\n	\n		\n		\n				\n					$\n					35.00\n				\n						\n\n\n	\n\n\n	\n	 16  available\n\n\n	\n\n\n	\n						\n	Decrease ticket quantity for CVMF 2026 Fundriaser\n	-\n				\n\n	\n		Quantity	\n	\n\n					\n	Increase ticket quantity for CVMF 2026 Fundriaser\n	+\n			\n\n	\n		\n	\n\n\n		\n\n	\n	\n	\n		Quantity:	\n	0\n\n\n	\n	\n		Total:	\n	\n		\n				\n					$\n					0.00\n				\n				\n\n\n	Get Tickets\n\n		\n				\n	\n\n\n		\n		\n	\n	\n\n	\n	\n\n	\n	\n\n\n\n			\n\n	\n\n\n				\n				\n					\n		\n					\n		\n				\n						\n					\n			\n						\n				\n																														\n				\n				\n				\n					Silent Auction Items!				\n				\n				\n				\n							\n			\n			\n				\n			\n				\n				4 Wolfpack Tickets for 26-27 Season\n				\n			\n				\n			\n				\n				AMomentAwaySpa.com\n				\n			\n				\n			\n				\n				Decoy Dawn Black Lab Print\n				\n			\n				\n			\n				\n				Weatherby Black Labrador Retriver\n				\n			\n				\n			\n				\n				By Sharon Nowlan\n				\n			\n				\n			\n				\n				By Penny Barsch\n				\n			\n				\n			\n				\n				$50.00 GC for Mozzicato\n				\n			\n				\n			\n				\n				Set of 5 Cat picture frames\n				\n			\n				\n			\n				\n				Cat and Moon Wreath\, $65 Value\n				\n			\n				\n			\n				\n				Cat and Moon Spider\, $15 Value\n				\n			\n				\n			\n				\n				“Coffee” Themed Basket\n				\n		\n		\n						\n				\n				\n				\n					Some pictures from last years event!				\n				\n				\n				\n							\n							\n					\n											\n														\n							\n					\n											\n														\n							\n					\n											\n														\n							\n					\n											\n														\n							\n					\n											\n														\n					\n					\n				\n					\n		\n					\n		\n				\n						\n					\n			\n						\n				\n					\n	\n\n		\n		\n		\n\n		\n\n\n		\n\n\n\n	Tickets\n\n		\n	\n	\n		The numbers below include tickets for this event already in your cart. Clicking "Get Tickets" will allow you to edit any existing attendee information as well as change ticket quantities.	\n\n\n		\n\n	\n		\n				CVMF 2026 Fundriaser	\n\n\n\n\n	Each ticket includes bowling\, shoe rental\, mini-golf\, pizza and soft drinks. Ticket also includes 1 adult beverage ( beer or wine\, for 21+)\n*$30/ticket when purchase 3 or more"\n\n\n	\n		\n		\n				\n					$\n					35.00\n				\n						\n\n\n	\n\n\n	\n	 16  available\n\n\n	\n\n\n	\n					\n\n	\n		Quantity	\n	\n\n			\n\n	\n		\n	\n\n\n		\n\n	\n	\n	\n		Quantity:	\n	0\n\n\n	\n	\n		Total:	\n	\n		\n				\n					$\n					0.00\n				\n				\n\n\n	Get Tickets\n\n		\n				\n	\n\n\n		\n		\n	\n	\n\n	\n	\n\n	\n	\n\n\n\n			\n\n	\n\n\n				\n				\n					\n		\n					\n		\n				\n						\n					\n			\n						\n				\n					\n		\n			May 7\n\n	\n\n	  @  \n\n\n6:00 pm\n\n		\n\n\n\n	\n	  -  \n\n8:30 pm\n\n\n\n	\n				\n				\n				\n				\n					\n				\n				\n	\n			\n		Lessard Lanes			\n	\n	\n	\n\n136 New Britain Avenue\n	\n		\n		Plainville\,\n\n	CT\n\n	06062\n\n	United States\n\n\n\n\n	+ Google Map \n\n\n	\n					\n			860-747-1657			\n	 \n\n\n	\n	View Venue Website
URL:https://petsafetyct.org/event/pet-er/
LOCATION:https://us06web.zoom.us/j/84798060868
CATEGORIES:Education
ATTACH;FMTTYPE=image/png:https://petsafetyct.org/wp-content/uploads/2022/11/CVMF-Webinar-12_8_22.png
END:VEVENT
END:VCALENDAR