BEGIN:VCALENDAR
VERSION:2.0
PRODID:-//Connecticut Veterinary Medical Foundation - ECPv6.15.20//NONSGML v1.0//EN
CALSCALE:GREGORIAN
METHOD:PUBLISH
X-ORIGINAL-URL:https://petsafetyct.org
X-WR-CALDESC:Events for Connecticut Veterinary Medical Foundation
REFRESH-INTERVAL;VALUE=DURATION:PT1H
X-Robots-Tag:noindex
X-PUBLISHED-TTL:PT1H
BEGIN:VTIMEZONE
TZID:America/New_York
BEGIN:DAYLIGHT
TZOFFSETFROM:-0500
TZOFFSETTO:-0400
TZNAME:EDT
DTSTART:20230312T070000
END:DAYLIGHT
BEGIN:STANDARD
TZOFFSETFROM:-0400
TZOFFSETTO:-0500
TZNAME:EST
DTSTART:20231105T060000
END:STANDARD
BEGIN:DAYLIGHT
TZOFFSETFROM:-0500
TZOFFSETTO:-0400
TZNAME:EDT
DTSTART:20240310T070000
END:DAYLIGHT
BEGIN:STANDARD
TZOFFSETFROM:-0400
TZOFFSETTO:-0500
TZNAME:EST
DTSTART:20241103T060000
END:STANDARD
BEGIN:DAYLIGHT
TZOFFSETFROM:-0500
TZOFFSETTO:-0400
TZNAME:EDT
DTSTART:20250309T070000
END:DAYLIGHT
BEGIN:STANDARD
TZOFFSETFROM:-0400
TZOFFSETTO:-0500
TZNAME:EST
DTSTART:20251102T060000
END:STANDARD
BEGIN:DAYLIGHT
TZOFFSETFROM:-0500
TZOFFSETTO:-0400
TZNAME:EDT
DTSTART:20260308T070000
END:DAYLIGHT
BEGIN:STANDARD
TZOFFSETFROM:-0400
TZOFFSETTO:-0500
TZNAME:EST
DTSTART:20261101T060000
END:STANDARD
END:VTIMEZONE
BEGIN:VEVENT
DTSTART;TZID=America/New_York:20250605T183000
DTEND;TZID=America/New_York:20250605T210000
DTSTAMP:20260423T173319
CREATED:20250426T144917Z
LAST-MODIFIED:20250605T170904Z
UID:10000025-1749148200-1749157200@petsafetyct.org
SUMMARY:Bowling-2025
DESCRIPTION:Tickets\n\n		\n	\n	\n		The numbers below include tickets for this event already in your cart. Clicking "Get Tickets" will allow you to edit any existing attendee information as well as change ticket quantities.	\n\n\n		\n\n	\n		\n				CVMF 2026 Fundriaser	\n\n\n\n\n	Each ticket includes bowling\, shoe rental\, mini-golf\, pizza and soft drinks. Ticket also includes 1 adult beverage ( beer or wine\, for 21+)\n*$30/ticket when purchase 3 or more"\n\n\n	\n		\n		\n				\n					$\n					35.00\n				\n						\n\n\n	\n\n\n	Unlimited\n	\n\n\n	\n\n\n	\n						\n	Decrease ticket quantity for CVMF 2026 Fundriaser\n	-\n				\n\n	\n		Quantity	\n	\n\n					\n	Increase ticket quantity for CVMF 2026 Fundriaser\n	+\n			\n\n	\n		\n	\n\n\n		\n\n	\n	\n	\n		Quantity:	\n	0\n\n\n	\n	\n		Total:	\n	\n		\n				\n					$\n					0.00\n				\n				\n\n\n	Get Tickets\n\n		\n				\n	\n\n\n		\n		\n	\n	\n\n	\n	\n\n	\n	\n\n\n\n			\n\n	\n\n\n				\n				\n					\n		\n					\n		\n				\n						\n					\n			\n						\n				\n																														\n				\n				\n				\n					Silent Auction Items!				\n				\n				\n				\n							\n			\n			\n				\n			\n				\n				4 Wolfpack Tickets for 26-27 Season\n				\n			\n				\n			\n				\n				AMomentAwaySpa.com\n				\n			\n				\n			\n				\n				Decoy Dawn Black Lab Print\n				\n			\n				\n			\n				\n				Weatherby Black Labrador Retriver\n				\n			\n				\n			\n				\n				By Sharon Nowlan\n				\n			\n				\n			\n				\n				By Penny Barsch\n				\n			\n				\n			\n				\n				$50.00 GC for Mozzicato\n				\n			\n				\n			\n				\n				Set of 5 Cat picture frames\n				\n			\n				\n			\n				\n				Cat and Moon Wreath\, $65 Value\n				\n			\n				\n			\n				\n				Cat and Moon Spider\, $15 Value\n				\n			\n				\n			\n				\n				“Coffee” Themed Basket\n				\n		\n		\n						\n				\n				\n				\n					Some pictures from last years event!				\n				\n				\n				\n							\n							\n					\n											\n														\n							\n					\n											\n														\n							\n					\n											\n														\n							\n					\n											\n														\n							\n					\n											\n														\n					\n					\n				\n					\n		\n					\n		\n				\n						\n					\n			\n						\n				\n					\n	\n\n		\n		\n		\n\n		\n\n\n		\n\n\n\n	Tickets\n\n		\n	\n	\n		The numbers below include tickets for this event already in your cart. Clicking "Get Tickets" will allow you to edit any existing attendee information as well as change ticket quantities.	\n\n\n		\n\n	\n		\n				CVMF 2026 Fundriaser	\n\n\n\n\n	Each ticket includes bowling\, shoe rental\, mini-golf\, pizza and soft drinks. Ticket also includes 1 adult beverage ( beer or wine\, for 21+)\n*$30/ticket when purchase 3 or more"\n\n\n	\n		\n		\n				\n					$\n					35.00\n				\n						\n\n\n	\n\n\n	Unlimited\n	\n\n\n	\n\n\n	\n					\n\n	\n		Quantity	\n	\n\n			\n\n	\n		\n	\n\n\n		\n\n	\n	\n	\n		Quantity:	\n	0\n\n\n	\n	\n		Total:	\n	\n		\n				\n					$\n					0.00\n				\n				\n\n\n	Get Tickets\n\n		\n				\n	\n\n\n		\n		\n	\n	\n\n	\n	\n\n	\n	\n\n\n\n			\n\n	\n\n\n				\n				\n					\n		\n					\n		\n				\n						\n					\n			\n						\n				\n					\n		\n			May 7\n\n	\n\n	  @  \n\n\n6:00 pm\n\n		\n\n\n\n	\n	  -  \n\n8:30 pm\n\n\n\n	\n				\n				\n				\n				\n					\n				\n				\n	\n			\n		Lessard Lanes			\n	\n	\n	\n\n136 New Britain Avenue\n	\n		\n		Plainville\,\n\n	CT\n\n	06062\n\n	United States\n\n\n\n\n	+ Google Map \n\n\n	\n					\n			860-747-1657			\n	 \n\n\n	\n	View Venue Website
URL:https://petsafetyct.org/event/bowling-2025/
LOCATION:Apple Valley Bowling\, 1304 S. Main Street\, Plantsville\, 06479\, United States
CATEGORIES:Education,fundraiser,networking
ATTACH;FMTTYPE=image/png:https://petsafetyct.org/wp-content/uploads/2025/05/CVMF-20th-anniversary-small.png
END:VEVENT
BEGIN:VEVENT
DTSTART;TZID=America/New_York:20241219T190000
DTEND;TZID=America/New_York:20241219T193000
DTSTAMP:20260423T173319
CREATED:20241107T183315Z
LAST-MODIFIED:20241108T191408Z
UID:10000024-1734634800-1734636600@petsafetyct.org
SUMMARY:Adverse Food Reactions
DESCRIPTION:Tickets\n\n		\n	\n	\n		The numbers below include tickets for this event already in your cart. Clicking "Get Tickets" will allow you to edit any existing attendee information as well as change ticket quantities.	\n\n\n		\n\n	\n		\n				CVMF 2026 Fundriaser	\n\n\n\n\n	Each ticket includes bowling\, shoe rental\, mini-golf\, pizza and soft drinks. Ticket also includes 1 adult beverage ( beer or wine\, for 21+)\n*$30/ticket when purchase 3 or more"\n\n\n	\n		\n		\n				\n					$\n					35.00\n				\n						\n\n\n	\n\n\n	Unlimited\n	\n\n\n	\n\n\n	\n					\n\n	\n		Quantity	\n	\n\n			\n\n	\n		\n	\n\n\n		\n\n	\n	\n	\n		Quantity:	\n	0\n\n\n	\n	\n		Total:	\n	\n		\n				\n					$\n					0.00\n				\n				\n\n\n	Get Tickets\n\n		\n				\n	\n\n\n		\n		\n	\n	\n\n	\n	\n\n	\n	\n\n\n\n			\n\n	\n\n\n				\n				\n					\n		\n					\n		\n				\n						\n					\n			\n						\n				\n																														\n				\n				\n				\n					Silent Auction Items!				\n				\n				\n				\n							\n			\n			\n				\n			\n				\n				4 Wolfpack Tickets for 26-27 Season\n				\n			\n				\n			\n				\n				AMomentAwaySpa.com\n				\n			\n				\n			\n				\n				Decoy Dawn Black Lab Print\n				\n			\n				\n			\n				\n				Weatherby Black Labrador Retriver\n				\n			\n				\n			\n				\n				By Sharon Nowlan\n				\n			\n				\n			\n				\n				By Penny Barsch\n				\n			\n				\n			\n				\n				$50.00 GC for Mozzicato\n				\n			\n				\n			\n				\n				Set of 5 Cat picture frames\n				\n			\n				\n			\n				\n				Cat and Moon Wreath\, $65 Value\n				\n			\n				\n			\n				\n				Cat and Moon Spider\, $15 Value\n				\n			\n				\n			\n				\n				“Coffee” Themed Basket\n				\n		\n		\n						\n				\n				\n				\n					Some pictures from last years event!				\n				\n				\n				\n							\n							\n					\n											\n														\n							\n					\n											\n														\n							\n					\n											\n														\n							\n					\n											\n														\n							\n					\n											\n														\n					\n					\n				\n					\n		\n					\n		\n				\n						\n					\n			\n						\n				\n					\n	\n\n		\n		\n		\n\n		\n\n\n		\n\n\n\n	Tickets\n\n		\n	\n	\n		The numbers below include tickets for this event already in your cart. Clicking "Get Tickets" will allow you to edit any existing attendee information as well as change ticket quantities.	\n\n\n		\n\n	\n		\n				CVMF 2026 Fundriaser	\n\n\n\n\n	Each ticket includes bowling\, shoe rental\, mini-golf\, pizza and soft drinks. Ticket also includes 1 adult beverage ( beer or wine\, for 21+)\n*$30/ticket when purchase 3 or more"\n\n\n	\n		\n		\n				\n					$\n					35.00\n				\n						\n\n\n	\n\n\n	Unlimited\n	\n\n\n	\n\n\n	\n					\n\n	\n		Quantity	\n	\n\n			\n\n	\n		\n	\n\n\n		\n\n	\n	\n	\n		Quantity:	\n	0\n\n\n	\n	\n		Total:	\n	\n		\n				\n					$\n					0.00\n				\n				\n\n\n	Get Tickets\n\n		\n				\n	\n\n\n		\n		\n	\n	\n\n	\n	\n\n	\n	\n\n\n\n			\n\n	\n\n\n				\n				\n					\n		\n					\n		\n				\n						\n					\n			\n						\n				\n					\n		\n			May 7\n\n	\n\n	  @  \n\n\n6:00 pm\n\n		\n\n\n\n	\n	  -  \n\n8:30 pm\n\n\n\n	\n				\n				\n				\n				\n					\n				\n				\n	\n			\n		Lessard Lanes			\n	\n	\n	\n\n136 New Britain Avenue\n	\n		\n		Plainville\,\n\n	CT\n\n	06062\n\n	United States\n\n\n\n\n	+ Google Map \n\n\n	\n					\n			860-747-1657			\n	 \n\n\n	\n	View Venue Website
URL:https://petsafetyct.org/event/adverse-food-reactions/
LOCATION:https://us06web.zoom.us/j/85169971927
CATEGORIES:Education,fundraiser,networking
ATTACH;FMTTYPE=image/jpeg:https://petsafetyct.org/wp-content/uploads/2024/11/Itchy-dog.jpg
END:VEVENT
BEGIN:VEVENT
DTSTART;TZID=America/New_York:20241017T190000
DTEND;TZID=America/New_York:20241017T193000
DTSTAMP:20260423T173319
CREATED:20240731T153901Z
LAST-MODIFIED:20241017T131525Z
UID:10000023-1729191600-1729193400@petsafetyct.org
SUMMARY:Overview of common toxicities in dogs and cats
DESCRIPTION:Tickets\n\n		\n	\n	\n		The numbers below include tickets for this event already in your cart. Clicking "Get Tickets" will allow you to edit any existing attendee information as well as change ticket quantities.	\n\n\n		\n\n	\n		\n				CVMF 2026 Fundriaser	\n\n\n\n\n	Each ticket includes bowling\, shoe rental\, mini-golf\, pizza and soft drinks. Ticket also includes 1 adult beverage ( beer or wine\, for 21+)\n*$30/ticket when purchase 3 or more"\n\n\n	\n		\n		\n				\n					$\n					35.00\n				\n						\n\n\n	\n\n\n	Unlimited\n	\n\n\n	\n\n\n	\n					\n\n	\n		Quantity	\n	\n\n			\n\n	\n		\n	\n\n\n		\n\n	\n	\n	\n		Quantity:	\n	0\n\n\n	\n	\n		Total:	\n	\n		\n				\n					$\n					0.00\n				\n				\n\n\n	Get Tickets\n\n		\n				\n	\n\n\n		\n		\n	\n	\n\n	\n	\n\n	\n	\n\n\n\n			\n\n	\n\n\n				\n				\n					\n		\n					\n		\n				\n						\n					\n			\n						\n				\n																														\n				\n				\n				\n					Silent Auction Items!				\n				\n				\n				\n							\n			\n			\n				\n			\n				\n				4 Wolfpack Tickets for 26-27 Season\n				\n			\n				\n			\n				\n				AMomentAwaySpa.com\n				\n			\n				\n			\n				\n				Decoy Dawn Black Lab Print\n				\n			\n				\n			\n				\n				Weatherby Black Labrador Retriver\n				\n			\n				\n			\n				\n				By Sharon Nowlan\n				\n			\n				\n			\n				\n				By Penny Barsch\n				\n			\n				\n			\n				\n				$50.00 GC for Mozzicato\n				\n			\n				\n			\n				\n				Set of 5 Cat picture frames\n				\n			\n				\n			\n				\n				Cat and Moon Wreath\, $65 Value\n				\n			\n				\n			\n				\n				Cat and Moon Spider\, $15 Value\n				\n			\n				\n			\n				\n				“Coffee” Themed Basket\n				\n		\n		\n						\n				\n				\n				\n					Some pictures from last years event!				\n				\n				\n				\n							\n							\n					\n											\n														\n							\n					\n											\n														\n							\n					\n											\n														\n							\n					\n											\n														\n							\n					\n											\n														\n					\n					\n				\n					\n		\n					\n		\n				\n						\n					\n			\n						\n				\n					\n	\n\n		\n		\n		\n\n		\n\n\n		\n\n\n\n	Tickets\n\n		\n	\n	\n		The numbers below include tickets for this event already in your cart. Clicking "Get Tickets" will allow you to edit any existing attendee information as well as change ticket quantities.	\n\n\n		\n\n	\n		\n				CVMF 2026 Fundriaser	\n\n\n\n\n	Each ticket includes bowling\, shoe rental\, mini-golf\, pizza and soft drinks. Ticket also includes 1 adult beverage ( beer or wine\, for 21+)\n*$30/ticket when purchase 3 or more"\n\n\n	\n		\n		\n				\n					$\n					35.00\n				\n						\n\n\n	\n\n\n	Unlimited\n	\n\n\n	\n\n\n	\n					\n\n	\n		Quantity	\n	\n\n			\n\n	\n		\n	\n\n\n		\n\n	\n	\n	\n		Quantity:	\n	0\n\n\n	\n	\n		Total:	\n	\n		\n				\n					$\n					0.00\n				\n				\n\n\n	Get Tickets\n\n		\n				\n	\n\n\n		\n		\n	\n	\n\n	\n	\n\n	\n	\n\n\n\n			\n\n	\n\n\n				\n				\n					\n		\n					\n		\n				\n						\n					\n			\n						\n				\n					\n		\n			May 7\n\n	\n\n	  @  \n\n\n6:00 pm\n\n		\n\n\n\n	\n	  -  \n\n8:30 pm\n\n\n\n	\n				\n				\n				\n				\n					\n				\n				\n	\n			\n		Lessard Lanes			\n	\n	\n	\n\n136 New Britain Avenue\n	\n		\n		Plainville\,\n\n	CT\n\n	06062\n\n	United States\n\n\n\n\n	+ Google Map \n\n\n	\n					\n			860-747-1657			\n	 \n\n\n	\n	View Venue Website
URL:https://petsafetyct.org/event/toxicities-in-dogs-and-cats/
LOCATION:https://us06web.zoom.us/j/86558425932
CATEGORIES:Education,networking
END:VEVENT
BEGIN:VEVENT
DTSTART;TZID=America/New_York:20240620T190000
DTEND;TZID=America/New_York:20240620T193000
DTSTAMP:20260423T173319
CREATED:20240511T143612Z
LAST-MODIFIED:20240513T180931Z
UID:10000022-1718910000-1718911800@petsafetyct.org
SUMMARY:Introduction to Pet Pig Care and Behavior
DESCRIPTION:Tickets\n\n		\n	\n	\n		The numbers below include tickets for this event already in your cart. Clicking "Get Tickets" will allow you to edit any existing attendee information as well as change ticket quantities.	\n\n\n		\n\n	\n		\n				CVMF 2026 Fundriaser	\n\n\n\n\n	Each ticket includes bowling\, shoe rental\, mini-golf\, pizza and soft drinks. Ticket also includes 1 adult beverage ( beer or wine\, for 21+)\n*$30/ticket when purchase 3 or more"\n\n\n	\n		\n		\n				\n					$\n					35.00\n				\n						\n\n\n	\n\n\n	Unlimited\n	\n\n\n	\n\n\n	\n					\n\n	\n		Quantity	\n	\n\n			\n\n	\n		\n	\n\n\n		\n\n	\n	\n	\n		Quantity:	\n	0\n\n\n	\n	\n		Total:	\n	\n		\n				\n					$\n					0.00\n				\n				\n\n\n	Get Tickets\n\n		\n				\n	\n\n\n		\n		\n	\n	\n\n	\n	\n\n	\n	\n\n\n\n			\n\n	\n\n\n				\n				\n					\n		\n					\n		\n				\n						\n					\n			\n						\n				\n																														\n				\n				\n				\n					Silent Auction Items!				\n				\n				\n				\n							\n			\n			\n				\n			\n				\n				4 Wolfpack Tickets for 26-27 Season\n				\n			\n				\n			\n				\n				AMomentAwaySpa.com\n				\n			\n				\n			\n				\n				Decoy Dawn Black Lab Print\n				\n			\n				\n			\n				\n				Weatherby Black Labrador Retriver\n				\n			\n				\n			\n				\n				By Sharon Nowlan\n				\n			\n				\n			\n				\n				By Penny Barsch\n				\n			\n				\n			\n				\n				$50.00 GC for Mozzicato\n				\n			\n				\n			\n				\n				Set of 5 Cat picture frames\n				\n			\n				\n			\n				\n				Cat and Moon Wreath\, $65 Value\n				\n			\n				\n			\n				\n				Cat and Moon Spider\, $15 Value\n				\n			\n				\n			\n				\n				“Coffee” Themed Basket\n				\n		\n		\n						\n				\n				\n				\n					Some pictures from last years event!				\n				\n				\n				\n							\n							\n					\n											\n														\n							\n					\n											\n														\n							\n					\n											\n														\n							\n					\n											\n														\n							\n					\n											\n														\n					\n					\n				\n					\n		\n					\n		\n				\n						\n					\n			\n						\n				\n					\n	\n\n		\n		\n		\n\n		\n\n\n		\n\n\n\n	Tickets\n\n		\n	\n	\n		The numbers below include tickets for this event already in your cart. Clicking "Get Tickets" will allow you to edit any existing attendee information as well as change ticket quantities.	\n\n\n		\n\n	\n		\n				CVMF 2026 Fundriaser	\n\n\n\n\n	Each ticket includes bowling\, shoe rental\, mini-golf\, pizza and soft drinks. Ticket also includes 1 adult beverage ( beer or wine\, for 21+)\n*$30/ticket when purchase 3 or more"\n\n\n	\n		\n		\n				\n					$\n					35.00\n				\n						\n\n\n	\n\n\n	Unlimited\n	\n\n\n	\n\n\n	\n					\n\n	\n		Quantity	\n	\n\n			\n\n	\n		\n	\n\n\n		\n\n	\n	\n	\n		Quantity:	\n	0\n\n\n	\n	\n		Total:	\n	\n		\n				\n					$\n					0.00\n				\n				\n\n\n	Get Tickets\n\n		\n				\n	\n\n\n		\n		\n	\n	\n\n	\n	\n\n	\n	\n\n\n\n			\n\n	\n\n\n				\n				\n					\n		\n					\n		\n				\n						\n					\n			\n						\n				\n					\n		\n			May 7\n\n	\n\n	  @  \n\n\n6:00 pm\n\n		\n\n\n\n	\n	  -  \n\n8:30 pm\n\n\n\n	\n				\n				\n				\n				\n					\n				\n				\n	\n			\n		Lessard Lanes			\n	\n	\n	\n\n136 New Britain Avenue\n	\n		\n		Plainville\,\n\n	CT\n\n	06062\n\n	United States\n\n\n\n\n	+ Google Map \n\n\n	\n					\n			860-747-1657			\n	 \n\n\n	\n	View Venue Website
URL:https://petsafetyct.org/event/intro-to-pig/
LOCATION:https://us06web.zoom.us/j/88276690033
CATEGORIES:Education,networking
ATTACH;FMTTYPE=image/webp:https://petsafetyct.org/wp-content/uploads/2024/05/Pig.webp
END:VEVENT
BEGIN:VEVENT
DTSTART;TZID=America/New_York:20240501T183000
DTEND;TZID=America/New_York:20240501T210000
DTSTAMP:20260423T173320
CREATED:20240229T131742Z
LAST-MODIFIED:20240422T150151Z
UID:10000019-1714588200-1714597200@petsafetyct.org
SUMMARY:CVMF Fundraiser- Bark And Brew
DESCRIPTION:Tickets\n\n		\n	\n	\n		The numbers below include tickets for this event already in your cart. Clicking "Get Tickets" will allow you to edit any existing attendee information as well as change ticket quantities.	\n\n\n		\n\n	\n		\n				CVMF 2026 Fundriaser	\n\n\n\n\n	Each ticket includes bowling\, shoe rental\, mini-golf\, pizza and soft drinks. Ticket also includes 1 adult beverage ( beer or wine\, for 21+)\n*$30/ticket when purchase 3 or more"\n\n\n	\n		\n		\n				\n					$\n					35.00\n				\n						\n\n\n	\n\n\n	Unlimited\n	\n\n\n	\n\n\n	\n					\n\n	\n		Quantity	\n	\n\n			\n\n	\n		\n	\n\n\n		\n\n	\n	\n	\n		Quantity:	\n	0\n\n\n	\n	\n		Total:	\n	\n		\n				\n					$\n					0.00\n				\n				\n\n\n	Get Tickets\n\n		\n				\n	\n\n\n		\n		\n	\n	\n\n	\n	\n\n	\n	\n\n\n\n			\n\n	\n\n\n				\n				\n					\n		\n					\n		\n				\n						\n					\n			\n						\n				\n																														\n				\n				\n				\n					Silent Auction Items!				\n				\n				\n				\n							\n			\n			\n				\n			\n				\n				4 Wolfpack Tickets for 26-27 Season\n				\n			\n				\n			\n				\n				AMomentAwaySpa.com\n				\n			\n				\n			\n				\n				Decoy Dawn Black Lab Print\n				\n			\n				\n			\n				\n				Weatherby Black Labrador Retriver\n				\n			\n				\n			\n				\n				By Sharon Nowlan\n				\n			\n				\n			\n				\n				By Penny Barsch\n				\n			\n				\n			\n				\n				$50.00 GC for Mozzicato\n				\n			\n				\n			\n				\n				Set of 5 Cat picture frames\n				\n			\n				\n			\n				\n				Cat and Moon Wreath\, $65 Value\n				\n			\n				\n			\n				\n				Cat and Moon Spider\, $15 Value\n				\n			\n				\n			\n				\n				“Coffee” Themed Basket\n				\n		\n		\n						\n				\n				\n				\n					Some pictures from last years event!				\n				\n				\n				\n							\n							\n					\n											\n														\n							\n					\n											\n														\n							\n					\n											\n														\n							\n					\n											\n														\n							\n					\n											\n														\n					\n					\n				\n					\n		\n					\n		\n				\n						\n					\n			\n						\n				\n					\n	\n\n		\n		\n		\n\n		\n\n\n		\n\n\n\n	Tickets\n\n		\n	\n	\n		The numbers below include tickets for this event already in your cart. Clicking "Get Tickets" will allow you to edit any existing attendee information as well as change ticket quantities.	\n\n\n		\n\n	\n		\n				CVMF 2026 Fundriaser	\n\n\n\n\n	Each ticket includes bowling\, shoe rental\, mini-golf\, pizza and soft drinks. Ticket also includes 1 adult beverage ( beer or wine\, for 21+)\n*$30/ticket when purchase 3 or more"\n\n\n	\n		\n		\n				\n					$\n					35.00\n				\n						\n\n\n	\n\n\n	Unlimited\n	\n\n\n	\n\n\n	\n					\n\n	\n		Quantity	\n	\n\n			\n\n	\n		\n	\n\n\n		\n\n	\n	\n	\n		Quantity:	\n	0\n\n\n	\n	\n		Total:	\n	\n		\n				\n					$\n					0.00\n				\n				\n\n\n	Get Tickets\n\n		\n				\n	\n\n\n		\n		\n	\n	\n\n	\n	\n\n	\n	\n\n\n\n			\n\n	\n\n\n				\n				\n					\n		\n					\n		\n				\n						\n					\n			\n						\n				\n					\n		\n			May 7\n\n	\n\n	  @  \n\n\n6:00 pm\n\n		\n\n\n\n	\n	  -  \n\n8:30 pm\n\n\n\n	\n				\n				\n				\n				\n					\n				\n				\n	\n			\n		Lessard Lanes			\n	\n	\n	\n\n136 New Britain Avenue\n	\n		\n		Plainville\,\n\n	CT\n\n	06062\n\n	United States\n\n\n\n\n	+ Google Map \n\n\n	\n					\n			860-747-1657			\n	 \n\n\n	\n	View Venue Website
URL:https://petsafetyct.org/event/barkandbrew2024/
LOCATION:Witch Doctor Brewery\, 168 Center Street\, Southington\, United States\, 06489\, United States
CATEGORIES:fundraiser,networking
ATTACH;FMTTYPE=image/png:https://petsafetyct.org/wp-content/uploads/2024/03/CVMF-Event_updated.png
END:VEVENT
BEGIN:VEVENT
DTSTART;TZID=America/New_York:20240420T090000
DTEND;TZID=America/New_York:20240420T160000
DTSTAMP:20260423T173320
CREATED:20240417T164729Z
LAST-MODIFIED:20240417T164729Z
UID:10000021-1713603600-1713628800@petsafetyct.org
SUMMARY:CTSART Training Day
DESCRIPTION:Tickets\n\n		\n	\n	\n		The numbers below include tickets for this event already in your cart. Clicking "Get Tickets" will allow you to edit any existing attendee information as well as change ticket quantities.	\n\n\n		\n\n	\n		\n				CVMF 2026 Fundriaser	\n\n\n\n\n	Each ticket includes bowling\, shoe rental\, mini-golf\, pizza and soft drinks. Ticket also includes 1 adult beverage ( beer or wine\, for 21+)\n*$30/ticket when purchase 3 or more"\n\n\n	\n		\n		\n				\n					$\n					35.00\n				\n						\n\n\n	\n\n\n	Unlimited\n	\n\n\n	\n\n\n	\n					\n\n	\n		Quantity	\n	\n\n			\n\n	\n		\n	\n\n\n		\n\n	\n	\n	\n		Quantity:	\n	0\n\n\n	\n	\n		Total:	\n	\n		\n				\n					$\n					0.00\n				\n				\n\n\n	Get Tickets\n\n		\n				\n	\n\n\n		\n		\n	\n	\n\n	\n	\n\n	\n	\n\n\n\n			\n\n	\n\n\n				\n				\n					\n		\n					\n		\n				\n						\n					\n			\n						\n				\n																														\n				\n				\n				\n					Silent Auction Items!				\n				\n				\n				\n							\n			\n			\n				\n			\n				\n				4 Wolfpack Tickets for 26-27 Season\n				\n			\n				\n			\n				\n				AMomentAwaySpa.com\n				\n			\n				\n			\n				\n				Decoy Dawn Black Lab Print\n				\n			\n				\n			\n				\n				Weatherby Black Labrador Retriver\n				\n			\n				\n			\n				\n				By Sharon Nowlan\n				\n			\n				\n			\n				\n				By Penny Barsch\n				\n			\n				\n			\n				\n				$50.00 GC for Mozzicato\n				\n			\n				\n			\n				\n				Set of 5 Cat picture frames\n				\n			\n				\n			\n				\n				Cat and Moon Wreath\, $65 Value\n				\n			\n				\n			\n				\n				Cat and Moon Spider\, $15 Value\n				\n			\n				\n			\n				\n				“Coffee” Themed Basket\n				\n		\n		\n						\n				\n				\n				\n					Some pictures from last years event!				\n				\n				\n				\n							\n							\n					\n											\n														\n							\n					\n											\n														\n							\n					\n											\n														\n							\n					\n											\n														\n							\n					\n											\n														\n					\n					\n				\n					\n		\n					\n		\n				\n						\n					\n			\n						\n				\n					\n	\n\n		\n		\n		\n\n		\n\n\n		\n\n\n\n	Tickets\n\n		\n	\n	\n		The numbers below include tickets for this event already in your cart. Clicking "Get Tickets" will allow you to edit any existing attendee information as well as change ticket quantities.	\n\n\n		\n\n	\n		\n				CVMF 2026 Fundriaser	\n\n\n\n\n	Each ticket includes bowling\, shoe rental\, mini-golf\, pizza and soft drinks. Ticket also includes 1 adult beverage ( beer or wine\, for 21+)\n*$30/ticket when purchase 3 or more"\n\n\n	\n		\n		\n				\n					$\n					35.00\n				\n						\n\n\n	\n\n\n	Unlimited\n	\n\n\n	\n\n\n	\n					\n\n	\n		Quantity	\n	\n\n			\n\n	\n		\n	\n\n\n		\n\n	\n	\n	\n		Quantity:	\n	0\n\n\n	\n	\n		Total:	\n	\n		\n				\n					$\n					0.00\n				\n				\n\n\n	Get Tickets\n\n		\n				\n	\n\n\n		\n		\n	\n	\n\n	\n	\n\n	\n	\n\n\n\n			\n\n	\n\n\n				\n				\n					\n		\n					\n		\n				\n						\n					\n			\n						\n				\n					\n		\n			May 7\n\n	\n\n	  @  \n\n\n6:00 pm\n\n		\n\n\n\n	\n	  -  \n\n8:30 pm\n\n\n\n	\n				\n				\n				\n				\n					\n				\n				\n	\n			\n		Lessard Lanes			\n	\n	\n	\n\n136 New Britain Avenue\n	\n		\n		Plainville\,\n\n	CT\n\n	06062\n\n	United States\n\n\n\n\n	+ Google Map \n\n\n	\n					\n			860-747-1657			\n	 \n\n\n	\n	View Venue Website
URL:https://petsafetyct.org/event/ctsart-training-day/
LOCATION:Central Animal Hospital\, North Haven\, 4 Devine St.\, North Haven\, CT\, 06473\, United States
CATEGORIES:Education,networking
END:VEVENT
END:VCALENDAR