BEGIN:VCALENDAR
VERSION:2.0
PRODID:-//Connecticut Veterinary Medical Foundation - ECPv6.15.20//NONSGML v1.0//EN
CALSCALE:GREGORIAN
METHOD:PUBLISH
X-ORIGINAL-URL:https://petsafetyct.org
X-WR-CALDESC:Events for Connecticut Veterinary Medical Foundation
REFRESH-INTERVAL;VALUE=DURATION:PT1H
X-Robots-Tag:noindex
X-PUBLISHED-TTL:PT1H
BEGIN:VTIMEZONE
TZID:America/New_York
BEGIN:DAYLIGHT
TZOFFSETFROM:-0500
TZOFFSETTO:-0400
TZNAME:EDT
DTSTART:20220313T070000
END:DAYLIGHT
BEGIN:STANDARD
TZOFFSETFROM:-0400
TZOFFSETTO:-0500
TZNAME:EST
DTSTART:20221106T060000
END:STANDARD
BEGIN:DAYLIGHT
TZOFFSETFROM:-0500
TZOFFSETTO:-0400
TZNAME:EDT
DTSTART:20230312T070000
END:DAYLIGHT
BEGIN:STANDARD
TZOFFSETFROM:-0400
TZOFFSETTO:-0500
TZNAME:EST
DTSTART:20231105T060000
END:STANDARD
BEGIN:DAYLIGHT
TZOFFSETFROM:-0500
TZOFFSETTO:-0400
TZNAME:EDT
DTSTART:20240310T070000
END:DAYLIGHT
BEGIN:STANDARD
TZOFFSETFROM:-0400
TZOFFSETTO:-0500
TZNAME:EST
DTSTART:20241103T060000
END:STANDARD
END:VTIMEZONE
BEGIN:VEVENT
DTSTART;TZID=America/New_York:20230316T190000
DTEND;TZID=America/New_York:20230316T193000
DTSTAMP:20260425T204244
CREATED:20230119T145708Z
LAST-MODIFIED:20230216T195434Z
UID:10000014-1678993200-1678995000@petsafetyct.org
SUMMARY:Seasonal Environmental Allergies in Dogs
DESCRIPTION:The science behind seasonal allergies can help veterinarians offer numerous treatment options. The science and options will be presented\n \nPresented by: Emily Rothstein\, DVM\, Diplomate\, ACVD \n \nDr. Rothstein graduated with honors from the University Of Florida College Of Veterinary Medicine in 1988. She then completed a one-year internship in Small Animal Medicine and Surgery at Cornell University. After being in private practice for 6 years\, Dr. Rothstein was accepted into a Dermatology Residency at Cornell University and became a member of the American Academy of Veterinary Dermatology. While at Cornell\, she participated in numerous published clinical trials for new and improved treatments. Dr. Rothstein completed her residency in 1997 and was awarded diplomate status (board-certification) in the American College of Veterinary Dermatology® (ACVD) in 1998. She founded Animal Allergy and Dermatology Service of Connecticut\, LLC and recently retired from that after 25 years. Dr. Rothstein has been actively involved in the ACVD for over 20 years: serving on the ACVD Board of Directors for 10 years\, an Administrator of acvd.org\, and Chairperson of the committee responsible for overseeing board-certification of new diplomates in the ACVD. Currently\, she serves on the ACVD Advisory Board of Directors and the Administrative Council for the World Association for Veterinary Dermatology. She is the Secretary for the World Congress of Veterinary Dermatology 10 (WCVD10). Dr. Rothstein enjoys being a writer contributing to VIN (Veterinary Information Network) and consulting for VESPECON.
URL:https://petsafetyct.org/event/canine-seasonal-allergies/
CATEGORIES:Education
ATTACH;FMTTYPE=image/jpeg:https://petsafetyct.org/wp-content/uploads/2023/01/itchy-dog.jpg
LOCATION:https://us06web.zoom.us/j/87971099108
END:VEVENT
END:VCALENDAR